BEGIN:VCALENDAR
VERSION:2.0
PRODID:-//Geethanjali
CALSCALE:GREGORIAN
METHOD:PUBLISH
X-WR-CALNAME:Geethanjali
X-ORIGINAL-URL:https://gist.edu.in/gist/event/industrial-visit-report-on-apsrtc-bus-depot-workshop-nellore/
X-WR-CALDESC:Industrial Visit Report on APSRTC Bus Depot Workshop Nellore
BEGIN:VEVENT
DTSTART:
DTEND:
SUMMARY:Industrial Visit Report on APSRTC Bus Depot Workshop Nellore
DESCRIPTION:Industrial Visit Report on APSRTC Bus Depot Workshop Nellore
LOCATION:
END:VEVENT
END:VCALENDAR
