BEGIN:VCALENDAR
VERSION:2.0
PRODID:-//Geethanjali
CALSCALE:GREGORIAN
METHOD:PUBLISH
X-WR-CALNAME:Geethanjali
X-ORIGINAL-URL:https://gist.edu.in/gist/event/perspectives-on-entrepreneurship/
X-WR-CALDESC:Perspectives on Entrepreneurship
BEGIN:VEVENT
DTSTART:
DTEND:
SUMMARY:Perspectives on Entrepreneurship
DESCRIPTION:Perspectives on Entrepreneurship
LOCATION:
END:VEVENT
END:VCALENDAR
