BEGIN:VCALENDAR
VERSION:2.0
PRODID:-//Geethanjali
CALSCALE:GREGORIAN
METHOD:PUBLISH
X-WR-CALNAME:Geethanjali
X-ORIGINAL-URL:https://gist.edu.in/gist/event/shsc-shar-centre-sriharikota/
X-WR-CALDESC:SHSC SHAR Centre, Sriharikota
BEGIN:VEVENT
DTSTART:
DTEND:
SUMMARY:SHSC SHAR Centre, Sriharikota
DESCRIPTION:SHSC SHAR Centre, Sriharikota
LOCATION:
END:VEVENT
END:VCALENDAR
