BEGIN:VCALENDAR
VERSION:2.0
PRODID:-//Geethanjali
CALSCALE:GREGORIAN
METHOD:PUBLISH
X-WR-CALNAME:Geethanjali
X-ORIGINAL-URL:https://gist.edu.in/gist/event/a-one-week-workshop-on-solidedge-and-robcad/
X-WR-CALDESC:A One Week Workshop on “SolidEdge and ROBCAD”
BEGIN:VEVENT
DTSTART:
DTEND:
SUMMARY:A One Week Workshop on “SolidEdge and ROBCAD”
DESCRIPTION:A One Week Workshop on “SolidEdge and ROBCAD”
LOCATION:
END:VEVENT
END:VCALENDAR
