BEGIN:VCALENDAR
VERSION:2.0
PRODID:-//Geethanjali
CALSCALE:GREGORIAN
METHOD:PUBLISH
X-WR-CALNAME:Geethanjali
X-ORIGINAL-URL:https://gist.edu.in/gist/event/report-on-self-defense-for-woman/
X-WR-CALDESC:Self Defense for Women
BEGIN:VEVENT
DTSTART:
DTEND:
SUMMARY:Self Defense for Women
DESCRIPTION:Report on Self Defense for Woman
LOCATION:
END:VEVENT
END:VCALENDAR
