BEGIN:VCALENDAR
VERSION:2.0
PRODID:-//Geethanjali
CALSCALE:GREGORIAN
METHOD:PUBLISH
X-WR-CALNAME:Geethanjali
X-ORIGINAL-URL:https://gist.edu.in/gist/event/the-significance-of-ethics-and-values-in-education/
X-WR-CALDESC:The Significance of Ethics and Values in Education
BEGIN:VEVENT
DTSTART:
DTEND:
SUMMARY:The Significance of Ethics and Values in Education
DESCRIPTION:The Significance of Ethics and Values in Education
LOCATION:
END:VEVENT
END:VCALENDAR
