BEGIN:VCALENDAR
VERSION:2.0
PRODID:-//Geethanjali
CALSCALE:GREGORIAN
METHOD:PUBLISH
X-WR-CALNAME:Geethanjali
X-ORIGINAL-URL:https://gist.edu.in/gist/event/a-report-on-guest-lecture-on-numerical-methods-in-multi-dimensional-heat-transfers-by-prof-k-ramakrishna/
X-WR-CALDESC:A Report on  Guest Lecture on Numerical Methods in Multi Dimensional Heat Transfers By Prof. K. RamaKrishna
BEGIN:VEVENT
DTSTART:
DTEND:
SUMMARY:A Report on  Guest Lecture on Numerical Methods in Multi Dimensional Heat Transfers By Prof. K. RamaKrishna
DESCRIPTION:A Report on Guest Lecture on Numerical Methods in Multi Dimensional Heat Transfers By Prof. K. RamaKrishna

LOCATION:
END:VEVENT
END:VCALENDAR
