BEGIN:VCALENDAR
VERSION:2.0
PRODID:-//Geethanjali
CALSCALE:GREGORIAN
METHOD:PUBLISH
X-WR-CALNAME:Geethanjali
X-ORIGINAL-URL:https://gist.edu.in/gist/event/a-report-on-guest-lecture-on-mechanical-designing-softwares-by-cantercadd/
X-WR-CALDESC:A Report on  Guest Lecture on Mechanical Designing Software’s By Cantercadd
BEGIN:VEVENT
DTSTART:
DTEND:
SUMMARY:A Report on  Guest Lecture on Mechanical Designing Software’s By Cantercadd
DESCRIPTION:A Report on Guest Lecture on Mechanical Designing Software’s By Cantercadd
LOCATION:
END:VEVENT
END:VCALENDAR
