BEGIN:VCALENDAR
VERSION:2.0
PRODID:-//Geethanjali
CALSCALE:GREGORIAN
METHOD:PUBLISH
X-WR-CALNAME:Geethanjali
X-ORIGINAL-URL:https://gist.edu.in/gist/event/one-week-workshop-on-programmable-logic-controllers-plc/
X-WR-CALDESC:One Week Workshop on “Programmable Logic Controllers (PLC)”
BEGIN:VEVENT
DTSTART:
DTEND:
SUMMARY:One Week Workshop on “Programmable Logic Controllers (PLC)”
DESCRIPTION:One Week Workshop on “Programmable Logic Controllers (PLC)”
LOCATION:
END:VEVENT
END:VCALENDAR
