BEGIN:VCALENDAR
VERSION:2.0
PRODID:-//Geethanjali
CALSCALE:GREGORIAN
METHOD:PUBLISH
X-WR-CALNAME:Geethanjali
X-ORIGINAL-URL:https://gist.edu.in/gist/event/a-guest-lecture-report-on-water-harvesting-conservation-techniques/
X-WR-CALDESC:A Guest Lecture Report on “Water harvesting conservation techniques”
BEGIN:VEVENT
DTSTART:
DTEND:
SUMMARY:A Guest Lecture Report on “Water harvesting conservation techniques”
DESCRIPTION:A Guest Lecture Report on “Water harvesting conservation techniques”
LOCATION:
END:VEVENT
END:VCALENDAR
