BEGIN:VCALENDAR
VERSION:2.0
PRODID:-//Geethanjali
CALSCALE:GREGORIAN
METHOD:PUBLISH
X-WR-CALNAME:Geethanjali
X-ORIGINAL-URL:https://gist.edu.in/gist/event/a-report-on-inaugural-function-of-grace/
X-WR-CALDESC:A Report on  Inaugural Function of GRACE
BEGIN:VEVENT
DTSTART:
DTEND:
SUMMARY:A Report on  Inaugural Function of GRACE
DESCRIPTION:A Report on  Inaugural Function of GRACE
LOCATION:
END:VEVENT
END:VCALENDAR
