BEGIN:VCALENDAR
VERSION:2.0
PRODID:-//Geethanjali
CALSCALE:GREGORIAN
METHOD:PUBLISH
X-WR-CALNAME:Geethanjali
X-ORIGINAL-URL:https://gist.edu.in/gist/event/a-report-on-esim-a-first-course-in-the-iot-series-for-teachers-on-21-september-2019/
X-WR-CALDESC:A Report on eSim a First Course in the IoT Series for Teachers on 21 September 2019
BEGIN:VEVENT
DTSTART:
DTEND:
SUMMARY:A Report on eSim a First Course in the IoT Series for Teachers on 21 September 2019
DESCRIPTION:A Report on eSim a First Course in the IoT Series for Teachers on 21 September 2019
LOCATION:
END:VEVENT
END:VCALENDAR
