BEGIN:VCALENDAR
VERSION:2.0
PRODID:-//Geethanjali
CALSCALE:GREGORIAN
METHOD:PUBLISH
X-WR-CALNAME:Geethanjali
X-ORIGINAL-URL:https://gist.edu.in/gist/event/a-six-day-hands-on-workshop-on-amazon-web-services-amazon-alexa-at-gist/
X-WR-CALDESC:A Six Day Hands On Workshop On “Amazon Web Services-Amazon Alexa” at GIST
BEGIN:VEVENT
DTSTART:
DTEND:
SUMMARY:A Six Day Hands On Workshop On “Amazon Web Services-Amazon Alexa” at GIST
DESCRIPTION:A Six Day Hands On Workshop On “Amazon Web Services-Amazon Alexa” at GIST
LOCATION:
END:VEVENT
END:VCALENDAR
