BEGIN:VCALENDAR
VERSION:2.0
PRODID:-//Geethanjali
CALSCALE:GREGORIAN
METHOD:PUBLISH
X-WR-CALNAME:Geethanjali
X-ORIGINAL-URL:https://gist.edu.in/gist/event/a-report-on-six-days-workshop-at-gist-on-problem-solving-programming-in-python/
X-WR-CALDESC:A Report On Six Day’s Workshop at GIST On Problem Solving &#038; Programming in PYTHON
BEGIN:VEVENT
DTSTART:
DTEND:
SUMMARY:A Report On Six Day’s Workshop at GIST On Problem Solving &#038; Programming in PYTHON
DESCRIPTION:A Report On Six Day’s Workshop at GIST On Problem Solving & Programming in PYTHON
LOCATION:
END:VEVENT
END:VCALENDAR
