BEGIN:VCALENDAR
VERSION:2.0
PRODID:-//Geethanjali
CALSCALE:GREGORIAN
METHOD:PUBLISH
X-WR-CALNAME:Geethanjali
X-ORIGINAL-URL:https://gist.edu.in/gist/event/a-report-on-narl-visit-dated-on-27-09-2019/
X-WR-CALDESC:A Report on NARL Visit Dated on 27/09/2019
BEGIN:VEVENT
DTSTART:
DTEND:
SUMMARY:A Report on NARL Visit Dated on 27/09/2019
DESCRIPTION:A Report on NARL Visit Dated on 27/09/2019
LOCATION:
END:VEVENT
END:VCALENDAR
