BEGIN:VCALENDAR
VERSION:2.0
PRODID:-//Geethanjali
CALSCALE:GREGORIAN
METHOD:PUBLISH
X-WR-CALNAME:Geethanjali
X-ORIGINAL-URL:https://gist.edu.in/gist/event/tree-plantation-in-gist/
X-WR-CALDESC:TREE PLANTATION IN GIST
BEGIN:VEVENT
DTSTART:
DTEND:
SUMMARY:TREE PLANTATION IN GIST
DESCRIPTION:TREE PLANTATION IN GIST
LOCATION:
END:VEVENT
END:VCALENDAR
