BEGIN:VCALENDAR
VERSION:2.0
PRODID:-//Geethanjali
CALSCALE:GREGORIAN
METHOD:PUBLISH
X-WR-CALNAME:Geethanjali
X-ORIGINAL-URL:https://gist.edu.in/gist/event/ganesh-idols-distribution-by-nss-unit-at-mgb-felicity-mall/
X-WR-CALDESC:GANESH IDOLS DISTRIBUTION BY NSS UNIT AT MGB FELICITY MALL
BEGIN:VEVENT
DTSTART:
DTEND:
SUMMARY:GANESH IDOLS DISTRIBUTION BY NSS UNIT AT MGB FELICITY MALL
DESCRIPTION:GANESH IDOLS DISTRIBUTION BY NSS UNIT AT MGB FELICITY MALL
LOCATION:
END:VEVENT
END:VCALENDAR
