BEGIN:VCALENDAR
VERSION:2.0
PRODID:-//Geethanjali
CALSCALE:GREGORIAN
METHOD:PUBLISH
X-WR-CALNAME:Geethanjali
X-ORIGINAL-URL:https://gist.edu.in/gist/event/geethanjali-donation-to-handicapped-child/
X-WR-CALDESC:Geethanjali Donation to Handicapped Child
BEGIN:VEVENT
DTSTART:
DTEND:
SUMMARY:Geethanjali Donation to Handicapped Child
DESCRIPTION:Geethanjali Donation to Handicapped Child
LOCATION:
END:VEVENT
END:VCALENDAR
