BEGIN:VCALENDAR
VERSION:2.0
PRODID:-//Geethanjali
CALSCALE:GREGORIAN
METHOD:PUBLISH
X-WR-CALNAME:Geethanjali
X-ORIGINAL-URL:https://gist.edu.in/gist/event/joy-of-engineering-studies-personality-and-soft-skills-development/
X-WR-CALDESC:Joy of Engineering Studies &#8211; Personality and Soft Skills Development
BEGIN:VEVENT
DTSTART:
DTEND:
SUMMARY:Joy of Engineering Studies &#8211; Personality and Soft Skills Development
DESCRIPTION:Joy of Engineering Studies - Personality and Soft Skills Development
LOCATION:
END:VEVENT
END:VCALENDAR
