BEGIN:VCALENDAR
VERSION:2.0
PRODID:-//Geethanjali
CALSCALE:GREGORIAN
METHOD:PUBLISH
X-WR-CALNAME:Geethanjali
X-ORIGINAL-URL:https://gist.edu.in/gist/event/a-report-on-career-awareness-programme/
X-WR-CALDESC:A Report on Career Awareness Programme
BEGIN:VEVENT
DTSTART:
DTEND:
SUMMARY:A Report on Career Awareness Programme
DESCRIPTION:A Report on “Career Awareness Programme: How to Crack IES, GATE & PSU?”

LOCATION:
END:VEVENT
END:VCALENDAR
