BEGIN:VCALENDAR
VERSION:2.0
PRODID:-//Geethanjali
CALSCALE:GREGORIAN
METHOD:PUBLISH
X-WR-CALNAME:Geethanjali
X-ORIGINAL-URL:https://gist.edu.in/gist/event/independence-day-celebrations-2019/
X-WR-CALDESC:Independence Day celebrations 2019
BEGIN:VEVENT
DTSTART:
DTEND:
SUMMARY:Independence Day celebrations 2019
DESCRIPTION:A Report  on Independence Day celebrations
LOCATION:
END:VEVENT
END:VCALENDAR
