BEGIN:VCALENDAR
VERSION:2.0
PRODID:-//Geethanjali
CALSCALE:GREGORIAN
METHOD:PUBLISH
X-WR-CALNAME:Geethanjali
X-ORIGINAL-URL:https://gist.edu.in/gist/event/amazon-web-services-amazon-alexa/
X-WR-CALDESC:Amazon Web Services-Amazon Alexa
BEGIN:VEVENT
DTSTART:
DTEND:
SUMMARY:Amazon Web Services-Amazon Alexa
DESCRIPTION:A Six Day Hands On Workshop On “Amazon Web Services-Amazon Alexa” at GIST
LOCATION:
END:VEVENT
END:VCALENDAR
