BEGIN:VCALENDAR
VERSION:2.0
PRODID:-//Geethanjali
CALSCALE:GREGORIAN
METHOD:PUBLISH
X-WR-CALNAME:Geethanjali
X-ORIGINAL-URL:https://gist.edu.in/gist/event/a-two-week-certification-course-on-python-for-everybody/
X-WR-CALDESC:A Two Week Certification course  On “PYTHON FOR EVERYBODY”
BEGIN:VEVENT
DTSTART:
DTEND:
SUMMARY:A Two Week Certification course  On “PYTHON FOR EVERYBODY”
DESCRIPTION:A Two Week Certification course  On “PYTHON FOR EVERYBODY” 

LOCATION:
END:VEVENT
END:VCALENDAR
