BEGIN:VCALENDAR
VERSION:2.0
PRODID:-//Geethanjali
CALSCALE:GREGORIAN
METHOD:PUBLISH
X-WR-CALNAME:Geethanjali
X-ORIGINAL-URL:https://gist.edu.in/gist/event/a-three-day-hands-on-workshop-on-introduction-to-game-development/
X-WR-CALDESC:A Three Day Hands On Workshop  On  “INTRODUCTION TO GAME DEVELOPMENT”
BEGIN:VEVENT
DTSTART:
DTEND:
SUMMARY:A Three Day Hands On Workshop  On  “INTRODUCTION TO GAME DEVELOPMENT”
DESCRIPTION:A Three Day Hands On Workshop On  “INTRODUCTION TO GAME DEVELOPMENT” at GIST

LOCATION:
END:VEVENT
END:VCALENDAR
