BEGIN:VCALENDAR
VERSION:2.0
PRODID:-//Geethanjali
CALSCALE:GREGORIAN
METHOD:PUBLISH
X-WR-CALNAME:Geethanjali
X-ORIGINAL-URL:https://gist.edu.in/gist/event/a-five-day-workshop-internet-of-things/
X-WR-CALDESC:A Five Day Workshop on  Internet of Things
BEGIN:VEVENT
DTSTART:
DTEND:
SUMMARY:A Five Day Workshop on  Internet of Things
DESCRIPTION:Report on “A Five Day Workshop on Internet of Things”
LOCATION:
END:VEVENT
END:VCALENDAR
