BEGIN:VCALENDAR
VERSION:2.0
PRODID:-//Geethanjali
CALSCALE:GREGORIAN
METHOD:PUBLISH
X-WR-CALNAME:Geethanjali
X-ORIGINAL-URL:https://gist.edu.in/gist/event/introduction-to-machine-learning-in-power-systems/
X-WR-CALDESC:Introduction to Machine Learning in Power systems
BEGIN:VEVENT
DTSTART:
DTEND:
SUMMARY:Introduction to Machine Learning in Power systems
DESCRIPTION:ONE DAY GUEST LECTURE  On “Introduction to Machine Learning in Power systems”

LOCATION:
END:VEVENT
END:VCALENDAR
