BEGIN:VCALENDAR
VERSION:2.0
PRODID:-//Geethanjali
CALSCALE:GREGORIAN
METHOD:PUBLISH
X-WR-CALNAME:Geethanjali
X-ORIGINAL-URL:https://gist.edu.in/gist/event/pink-ribbon-walk-the-walk-against-breast-cancer/
X-WR-CALDESC:Pink Ribbon Walk, the Walk against Breast Cancer
BEGIN:VEVENT
DTSTART:
DTEND:
SUMMARY:Pink Ribbon Walk, the Walk against Breast Cancer
DESCRIPTION:Pink Ribbon Walk, the Walk against Breast Cancer: A Report
LOCATION:
END:VEVENT
END:VCALENDAR
