BEGIN:VCALENDAR
VERSION:2.0
PRODID:-//Geethanjali
CALSCALE:GREGORIAN
METHOD:PUBLISH
X-WR-CALNAME:Geethanjali
X-ORIGINAL-URL:https://gist.edu.in/gist/event/meditation-for-girl-students/
X-WR-CALDESC:Meditation for Girl Students
BEGIN:VEVENT
DTSTART:
DTEND:
SUMMARY:Meditation for Girl Students
DESCRIPTION:Report on “Meditation for Girl Students” 
LOCATION:
END:VEVENT
END:VCALENDAR
