BEGIN:VCALENDAR
VERSION:2.0
PRODID:-//Geethanjali
CALSCALE:GREGORIAN
METHOD:PUBLISH
X-WR-CALNAME:Geethanjali
X-ORIGINAL-URL:https://gist.edu.in/gist/event/report-on-one-day-python-workshop/
X-WR-CALDESC:Report On One day Python workshop
BEGIN:VEVENT
DTSTART:
DTEND:
SUMMARY:Report On One day Python workshop
DESCRIPTION:Report On “One day Python workshop”
LOCATION:
END:VEVENT
END:VCALENDAR
