BEGIN:VCALENDAR
VERSION:2.0
PRODID:-//Geethanjali
CALSCALE:GREGORIAN
METHOD:PUBLISH
X-WR-CALNAME:Geethanjali
X-ORIGINAL-URL:https://gist.edu.in/gist/event/a-guest-lecture-on-automobile-industry/
X-WR-CALDESC:A Guest Lecture  On Automobile Industry
BEGIN:VEVENT
DTSTART:
DTEND:
SUMMARY:A Guest Lecture  On Automobile Industry
DESCRIPTION:A Guest Lecture  On Automobile Industry
LOCATION:
END:VEVENT
END:VCALENDAR
