BEGIN:VCALENDAR
VERSION:2.0
PRODID:-//Geethanjali
CALSCALE:GREGORIAN
METHOD:PUBLISH
X-WR-CALNAME:Geethanjali
X-ORIGINAL-URL:https://gist.edu.in/gist/event/a-guest-lecture-on-advanced-ic-engines/
X-WR-CALDESC:A Guest Lecture  On Advanced IC Engines
BEGIN:VEVENT
DTSTART:
DTEND:
SUMMARY:A Guest Lecture  On Advanced IC Engines
DESCRIPTION:A Guest Lecture  On Advanced IC Engines
LOCATION:
END:VEVENT
END:VCALENDAR
