BEGIN:VCALENDAR
VERSION:2.0
PRODID:-//Geethanjali
CALSCALE:GREGORIAN
METHOD:PUBLISH
X-WR-CALNAME:Geethanjali
X-ORIGINAL-URL:https://gist.edu.in/gist/event/an-guest-lecture-on-thermal-power-plant-employment-opportunities/
X-WR-CALDESC:An Guest Lecture  On Thermal Power Plant &#038; Employment Opportunities
BEGIN:VEVENT
DTSTART:
DTEND:
SUMMARY:An Guest Lecture  On Thermal Power Plant &#038; Employment Opportunities
DESCRIPTION:An Guest Lecture  On Thermal Power Plant & Employment Opportunities
LOCATION:
END:VEVENT
END:VCALENDAR
