BEGIN:VCALENDAR
VERSION:2.0
PRODID:-//Geethanjali
CALSCALE:GREGORIAN
METHOD:PUBLISH
X-WR-CALNAME:Geethanjali
X-ORIGINAL-URL:https://gist.edu.in/gist/event/a-guest-lecture-on-liquid-propulsion-system/
X-WR-CALDESC:A Guest Lecture  On Liquid Propulsion System
BEGIN:VEVENT
DTSTART:
DTEND:
SUMMARY:A Guest Lecture  On Liquid Propulsion System
DESCRIPTION:A Guest Lecture  On Liquid Propulsion System
LOCATION:
END:VEVENT
END:VCALENDAR
