BEGIN:VCALENDAR
VERSION:2.0
PRODID:-//Geethanjali
CALSCALE:GREGORIAN
METHOD:PUBLISH
X-WR-CALNAME:Geethanjali
X-ORIGINAL-URL:https://gist.edu.in/gist/event/an-one-week-workshop-on-catia-v5-mechanical-design/
X-WR-CALDESC:An One Week Workshop  On CATIA V5 Mechanical Design
BEGIN:VEVENT
DTSTART:
DTEND:
SUMMARY:An One Week Workshop  On CATIA V5 Mechanical Design
DESCRIPTION:An One Week Workshop  On CATIA V5 Mechanical Design
LOCATION:
END:VEVENT
END:VCALENDAR
