BEGIN:VCALENDAR
VERSION:2.0
PRODID:-//Geethanjali
CALSCALE:GREGORIAN
METHOD:PUBLISH
X-WR-CALNAME:Geethanjali
X-ORIGINAL-URL:https://gist.edu.in/gist/event/a-seminar-on-advanced-fea/
X-WR-CALDESC:A Seminar On Advanced FEA
BEGIN:VEVENT
DTSTART:
DTEND:
SUMMARY:A Seminar On Advanced FEA
DESCRIPTION:A Seminar On Advanced FEA
LOCATION:
END:VEVENT
END:VCALENDAR
