BEGIN:VCALENDAR
VERSION:2.0
PRODID:-//Geethanjali
CALSCALE:GREGORIAN
METHOD:PUBLISH
X-WR-CALNAME:Geethanjali
X-ORIGINAL-URL:https://gist.edu.in/gist/event/a-national-level-workshop-on-bike-assembly-disassembly-of-bike/
X-WR-CALDESC:A National Level WORKSHOP  On Bike Assembly &#038; Disassembly of Bike
BEGIN:VEVENT
DTSTART:
DTEND:
SUMMARY:A National Level WORKSHOP  On Bike Assembly &#038; Disassembly of Bike
DESCRIPTION:A National Level WORKSHOP  On Bike Assembly & Disassembly of Bike
LOCATION:
END:VEVENT
END:VCALENDAR
