BEGIN:VCALENDAR
VERSION:2.0
PRODID:-//Geethanjali
CALSCALE:GREGORIAN
METHOD:PUBLISH
X-WR-CALNAME:Geethanjali
X-ORIGINAL-URL:https://gist.edu.in/gist/event/a-three-day-workshop-on-labview/
X-WR-CALDESC:A Three day workshop on LabVIEW
BEGIN:VEVENT
DTSTART:
DTEND:
SUMMARY:A Three day workshop on LabVIEW
DESCRIPTION:A Three day workshop on LabVIEW 
LOCATION:
END:VEVENT
END:VCALENDAR
