BEGIN:VCALENDAR
VERSION:2.0
PRODID:-//Geethanjali
CALSCALE:GREGORIAN
METHOD:PUBLISH
X-WR-CALNAME:Geethanjali
X-ORIGINAL-URL:https://gist.edu.in/gist/event/a-five-day-workshop-on-machine-learning-using-python/
X-WR-CALDESC:A Five day workshop on Machine learning using Python
BEGIN:VEVENT
DTSTART:
DTEND:
SUMMARY:A Five day workshop on Machine learning using Python
DESCRIPTION:A Five day workshop on Machine learning using Python
LOCATION:
END:VEVENT
END:VCALENDAR
