BEGIN:VCALENDAR
VERSION:2.0
PRODID:-//Geethanjali
CALSCALE:GREGORIAN
METHOD:PUBLISH
X-WR-CALNAME:Geethanjali
X-ORIGINAL-URL:https://gist.edu.in/gist/event/a-guest-lecture-on-radar-signal-processing/
X-WR-CALDESC:A Guest Lecture on RADAR Signal Processing
BEGIN:VEVENT
DTSTART:
DTEND:
SUMMARY:A Guest Lecture on RADAR Signal Processing
DESCRIPTION:A Guest Lecture on RADAR Signal Processing
LOCATION:
END:VEVENT
END:VCALENDAR
