BEGIN:VCALENDAR
VERSION:2.0
PRODID:-//Geethanjali
CALSCALE:GREGORIAN
METHOD:PUBLISH
X-WR-CALNAME:Geethanjali
X-ORIGINAL-URL:https://gist.edu.in/gist/event/three-day-workshop-on-embedded-systems-fundamentals/
X-WR-CALDESC:Three Day Workshop on Embedded Systems Fundamentals
BEGIN:VEVENT
DTSTART:
DTEND:
SUMMARY:Three Day Workshop on Embedded Systems Fundamentals
DESCRIPTION:Three Day Workshop on Embedded Systems Fundamentals
LOCATION:
END:VEVENT
END:VCALENDAR
