BEGIN:VCALENDAR
VERSION:2.0
PRODID:-//Geethanjali
CALSCALE:GREGORIAN
METHOD:PUBLISH
X-WR-CALNAME:Geethanjali
X-ORIGINAL-URL:https://gist.edu.in/gist/event/one-day-workshop-on-internet-of-things-iot-using-embedded-systems/
X-WR-CALDESC:One Day Workshop on Internet of Things (IoT) using Embedded Systems
BEGIN:VEVENT
DTSTART:
DTEND:
SUMMARY:One Day Workshop on Internet of Things (IoT) using Embedded Systems
DESCRIPTION:One Day Workshop on Internet of Things (IoT) using Embedded Systems
LOCATION:
END:VEVENT
END:VCALENDAR
