BEGIN:VCALENDAR
VERSION:2.0
PRODID:-//Geethanjali
CALSCALE:GREGORIAN
METHOD:PUBLISH
X-WR-CALNAME:Geethanjali
X-ORIGINAL-URL:https://gist.edu.in/gist/event/two-day-workshop-on-pcb-design-2/
X-WR-CALDESC:Two Day Workshop on PCB Design
BEGIN:VEVENT
DTSTART:
DTEND:
SUMMARY:Two Day Workshop on PCB Design
DESCRIPTION:Two Day Workshop on PCB Design
LOCATION:
END:VEVENT
END:VCALENDAR
