BEGIN:VCALENDAR
VERSION:2.0
PRODID:-//Geethanjali
CALSCALE:GREGORIAN
METHOD:PUBLISH
X-WR-CALNAME:Geethanjali
X-ORIGINAL-URL:https://gist.edu.in/gist/event/a-guest-lecture-on-micro-strip-antenna-design-applications/
X-WR-CALDESC:A guest lecture on Micro Strip Antenna Design &#038; Applications
BEGIN:VEVENT
DTSTART:
DTEND:
SUMMARY:A guest lecture on Micro Strip Antenna Design &#038; Applications
DESCRIPTION:A guest lecture on Micro Strip Antenna Design & Applications
LOCATION:
END:VEVENT
END:VCALENDAR
