BEGIN:VCALENDAR
VERSION:2.0
PRODID:-//Geethanjali
CALSCALE:GREGORIAN
METHOD:PUBLISH
X-WR-CALNAME:Geethanjali
X-ORIGINAL-URL:https://gist.edu.in/gist/event/one-day-industrial-visit-on-indira-gandhi-centre-for-atomic-research-igcar/
X-WR-CALDESC:One Day Industrial Visit  On Indira Gandhi Centre For Atomic Research (IGCAR)
BEGIN:VEVENT
DTSTART:
DTEND:
SUMMARY:One Day Industrial Visit  On Indira Gandhi Centre For Atomic Research (IGCAR)
DESCRIPTION:One Day Industrial Visit  On Indira Gandhi Centre For Atomic Research (IGCAR)
LOCATION:
END:VEVENT
END:VCALENDAR
