BEGIN:VCALENDAR
VERSION:2.0
PRODID:-//Geethanjali
CALSCALE:GREGORIAN
METHOD:PUBLISH
X-WR-CALNAME:Geethanjali
X-ORIGINAL-URL:https://gist.edu.in/gist/event/one-day-industrial-visit-on-integral-coach-factory/
X-WR-CALDESC:One Day Industrial Visit  On Integral Coach Factory
BEGIN:VEVENT
DTSTART:
DTEND:
SUMMARY:One Day Industrial Visit  On Integral Coach Factory
DESCRIPTION:One Day Industrial Visit  On Integral Coach Factory
LOCATION:
END:VEVENT
END:VCALENDAR
