BEGIN:VCALENDAR
VERSION:2.0
PRODID:-//Geethanjali
CALSCALE:GREGORIAN
METHOD:PUBLISH
X-WR-CALNAME:Geethanjali
X-ORIGINAL-URL:https://gist.edu.in/gist/event/one-day-guest-lecture-on-railway-electrification/
X-WR-CALDESC:One Day Guest Lecture  On Railway Electrification
BEGIN:VEVENT
DTSTART:
DTEND:
SUMMARY:One Day Guest Lecture  On Railway Electrification
DESCRIPTION:One Day Guest Lecture  On Railway Electrification
LOCATION:
END:VEVENT
END:VCALENDAR
