BEGIN:VCALENDAR
VERSION:2.0
PRODID:-//Geethanjali
CALSCALE:GREGORIAN
METHOD:PUBLISH
X-WR-CALNAME:Geethanjali
X-ORIGINAL-URL:https://gist.edu.in/gist/event/guest-lecture-on-power-electronics-drives/
X-WR-CALDESC:Guest Lecture  On Power Electronics Drives
BEGIN:VEVENT
DTSTART:
DTEND:
SUMMARY:Guest Lecture  On Power Electronics Drives
DESCRIPTION:Guest Lecture  On Power Electronics Drives
LOCATION:
END:VEVENT
END:VCALENDAR
