BEGIN:VCALENDAR
VERSION:2.0
PRODID:-//Geethanjali
CALSCALE:GREGORIAN
METHOD:PUBLISH
X-WR-CALNAME:Geethanjali
X-ORIGINAL-URL:https://gist.edu.in/gist/event/a-three-day-workshop-on-scilab-fundamentals/
X-WR-CALDESC:A THREE DAY WORKSHOP On SCILAB FUNDAMENTALS
BEGIN:VEVENT
DTSTART:
DTEND:
SUMMARY:A THREE DAY WORKSHOP On SCILAB FUNDAMENTALS
DESCRIPTION:A THREE DAY WORKSHOP On SCILAB FUNDAMENTALS
LOCATION:
END:VEVENT
END:VCALENDAR
