BEGIN:VCALENDAR
VERSION:2.0
PRODID:-//Geethanjali
CALSCALE:GREGORIAN
METHOD:PUBLISH
X-WR-CALNAME:Geethanjali
X-ORIGINAL-URL:https://gist.edu.in/gist/event/a-five-day-workshop-on-arduino-programming-and-applications-of-electrical-engineering/
X-WR-CALDESC:A FIVE DAY WORKSHOP On ARDUINO PROGRAMMING AND APPLICATIONS OF ELECTRICAL ENGINEERING
BEGIN:VEVENT
DTSTART:
DTEND:
SUMMARY:A FIVE DAY WORKSHOP On ARDUINO PROGRAMMING AND APPLICATIONS OF ELECTRICAL ENGINEERING
DESCRIPTION:A FIVE DAY WORKSHOP On ARDUINO PROGRAMMING AND APPLICATIONS OF ELECTRICAL ENGINEERING
LOCATION:
END:VEVENT
END:VCALENDAR
