BEGIN:VCALENDAR
VERSION:2.0
PRODID:-//Geethanjali
CALSCALE:GREGORIAN
METHOD:PUBLISH
X-WR-CALNAME:Geethanjali
X-ORIGINAL-URL:https://gist.edu.in/gist/event/one-day-industrial-visit-on-sri-damodaram-sanjeevaiah-thermal-power-station/
X-WR-CALDESC:ONE DAY INDUSTRIAL VISIT  On SRI DAMODARAM SANJEEVAIAH THERMAL POWER STATION
BEGIN:VEVENT
DTSTART:
DTEND:
SUMMARY:ONE DAY INDUSTRIAL VISIT  On SRI DAMODARAM SANJEEVAIAH THERMAL POWER STATION
DESCRIPTION:ONE DAY INDUSTRIAL VISIT  On SRI DAMODARAM SANJEEVAIAH THERMAL POWER STATION
LOCATION:
END:VEVENT
END:VCALENDAR
